Workbook
Name nombre_negocio: 'Configuración'!$B$3
Name periodo: 'Configuración'!$B$4

Sheet Instrucciones
A1: Horario de trabajo semanal en Excel
A2: Turnos de cada persona durante la semana, con horas totales.
A4: Cómo usarla en 5 pasos
A5: Paso 1 | B5: En Configuración, escribe el nombre del negocio y la semana.
A6: Paso 2 | B6: En la hoja Horario, escribe el nombre de cada empleado.
A7: Paso 3 | B7: Elige el turno de cada día en la lista desplegable (M, T, N o L).
A8: Paso 4 | B8: Revisa las horas semanales de cada persona.
A9: Paso 5 | B9: Imprime la hoja o guárdala como PDF para tu equipo.
A11: Código de colores
A12: Texto azul | B12: Celda de entrada: escribe aquí (texto azul sobre fondo amarillo suave).
A13: Texto negro | B13: Celda con fórmula: se calcula sola, no la borres (texto negro sobre fondo gris).
A15: Ejemplos del formato esperado
A16: M | B16: Mañana (8 h)
A17: T | B17: Tarde (8 h)
A18: N | B18: Noche (8 h)
A19: L | B19: Libre (0 h)
A20: Ejemplo | B20: Ana Torres trabaja de lunes a viernes en turno de mañana: M M M M M L L → 40 horas.
A22: Consejos
A23: Datos | B23: Esta versión está vacía y lista para llenar. Los ejemplos de arriba muestran cómo se usa.
A24: Cambio de turno | B24: Cambia el código de la celda con la lista desplegable; las horas se recalculan solas.
A25: Horas legales | B25: Revisa que las horas semanales respeten el límite de tu país y los descansos obligatorios.

Sheet Horario
A1: Horario
A2: Turnos de cada persona durante la semana, con horas totales.
I3: Mañana | J3: Tarde | K3: Noche | L3: Libre
A4: Empleado | B4: Lun | C4: Mar | D4: Mié | E4: Jue | F4: Vie | G4: Sáb | H4: Dom | I4: M | J4: T | K4: N | L4: L | M4: Horas
I5: =IF($A5="","",COUNTIF(B5:H5,"M")) | J5: =IF($A5="","",COUNTIF(B5:H5,"T")) | K5: =IF($A5="","",COUNTIF(B5:H5,"N")) | L5: =IF($A5="","",COUNTIF(B5:H5,"L")) | M5: =IF(A5="","",I5*8+J5*8+K5*8)
I6: =IF($A6="","",COUNTIF(B6:H6,"M")) | J6: =IF($A6="","",COUNTIF(B6:H6,"T")) | K6: =IF($A6="","",COUNTIF(B6:H6,"N")) | L6: =IF($A6="","",COUNTIF(B6:H6,"L")) | M6: =IF(A6="","",I6*8+J6*8+K6*8)
I7: =IF($A7="","",COUNTIF(B7:H7,"M")) | J7: =IF($A7="","",COUNTIF(B7:H7,"T")) | K7: =IF($A7="","",COUNTIF(B7:H7,"N")) | L7: =IF($A7="","",COUNTIF(B7:H7,"L")) | M7: =IF(A7="","",I7*8+J7*8+K7*8)
I8: =IF($A8="","",COUNTIF(B8:H8,"M")) | J8: =IF($A8="","",COUNTIF(B8:H8,"T")) | K8: =IF($A8="","",COUNTIF(B8:H8,"N")) | L8: =IF($A8="","",COUNTIF(B8:H8,"L")) | M8: =IF(A8="","",I8*8+J8*8+K8*8)
I9: =IF($A9="","",COUNTIF(B9:H9,"M")) | J9: =IF($A9="","",COUNTIF(B9:H9,"T")) | K9: =IF($A9="","",COUNTIF(B9:H9,"N")) | L9: =IF($A9="","",COUNTIF(B9:H9,"L")) | M9: =IF(A9="","",I9*8+J9*8+K9*8)
I10: =IF($A10="","",COUNTIF(B10:H10,"M")) | J10: =IF($A10="","",COUNTIF(B10:H10,"T")) | K10: =IF($A10="","",COUNTIF(B10:H10,"N")) | L10: =IF($A10="","",COUNTIF(B10:H10,"L")) | M10: =IF(A10="","",I10*8+J10*8+K10*8)
I11: =IF($A11="","",COUNTIF(B11:H11,"M")) | J11: =IF($A11="","",COUNTIF(B11:H11,"T")) | K11: =IF($A11="","",COUNTIF(B11:H11,"N")) | L11: =IF($A11="","",COUNTIF(B11:H11,"L")) | M11: =IF(A11="","",I11*8+J11*8+K11*8)
I12: =IF($A12="","",COUNTIF(B12:H12,"M")) | J12: =IF($A12="","",COUNTIF(B12:H12,"T")) | K12: =IF($A12="","",COUNTIF(B12:H12,"N")) | L12: =IF($A12="","",COUNTIF(B12:H12,"L")) | M12: =IF(A12="","",I12*8+J12*8+K12*8)
I13: =IF($A13="","",COUNTIF(B13:H13,"M")) | J13: =IF($A13="","",COUNTIF(B13:H13,"T")) | K13: =IF($A13="","",COUNTIF(B13:H13,"N")) | L13: =IF($A13="","",COUNTIF(B13:H13,"L")) | M13: =IF(A13="","",I13*8+J13*8+K13*8)
I14: =IF($A14="","",COUNTIF(B14:H14,"M")) | J14: =IF($A14="","",COUNTIF(B14:H14,"T")) | K14: =IF($A14="","",COUNTIF(B14:H14,"N")) | L14: =IF($A14="","",COUNTIF(B14:H14,"L")) | M14: =IF(A14="","",I14*8+J14*8+K14*8)
I15: =IF($A15="","",COUNTIF(B15:H15,"M")) | J15: =IF($A15="","",COUNTIF(B15:H15,"T")) | K15: =IF($A15="","",COUNTIF(B15:H15,"N")) | L15: =IF($A15="","",COUNTIF(B15:H15,"L")) | M15: =IF(A15="","",I15*8+J15*8+K15*8)
I16: =IF($A16="","",COUNTIF(B16:H16,"M")) | J16: =IF($A16="","",COUNTIF(B16:H16,"T")) | K16: =IF($A16="","",COUNTIF(B16:H16,"N")) | L16: =IF($A16="","",COUNTIF(B16:H16,"L")) | M16: =IF(A16="","",I16*8+J16*8+K16*8)

Sheet Resumen
A1: Resumen · Horario de trabajo semanal en Excel
A2: =IF(nombre_negocio="","Escribe el nombre en la hoja Configuración",nombre_negocio&IF(periodo="",""," · "&periodo))
A4: Empleados registrados | B4: Celdas con código | C4: Horas totales
A5: =COUNTA('Horario'!$A$5:$A$16) | B5: =SUM(C9:C12) | C5: =C9*8+C10*8+C11*8
A7: Totales por código
A8: Código | B8: Significado | C8: Veces | D8: % del total
A9: M | B9: Mañana | C9: =COUNTIF('Horario'!$B$5:$H$16,A9) | D9: =IF(SUM(C9:C12)=0,0,C9/SUM(C9:C12))
A10: T | B10: Tarde | C10: =COUNTIF('Horario'!$B$5:$H$16,A10) | D10: =IF(SUM(C9:C12)=0,0,C10/SUM(C9:C12))
A11: N | B11: Noche | C11: =COUNTIF('Horario'!$B$5:$H$16,A11) | D11: =IF(SUM(C9:C12)=0,0,C11/SUM(C9:C12))
A12: L | B12: Libre | C12: =COUNTIF('Horario'!$B$5:$H$16,A12) | D12: =IF(SUM(C9:C12)=0,0,C12/SUM(C9:C12))

Sheet Configuración
A1: Configuración
A2: Personaliza el nombre y el período que aparecen en el resumen.
A3: Nombre del negocio
A4: Semana
