Workbook
Name nombre_negocio: 'Configuración'!$B$3
Name par_jornada: 'Configuración'!$B$4
Name par_limite: 'Configuración'!$B$5
Name dat_fecha: 'Asistencia'!$A$5:$A$304
Name dat_empleado: 'Asistencia'!$B$5:$B$304
Name dat_entrada: 'Asistencia'!$C$5:$C$304
Name dat_salida: 'Asistencia'!$D$5:$D$304
Name dat_horas: 'Asistencia'!$E$5:$E$304
Name dat_extras: 'Asistencia'!$F$5:$F$304
Name dat_puntualidad: 'Asistencia'!$G$5:$G$304
Name lst_empleados: 'Configuración'!$A$9:$A$18

Sheet Instrucciones
A1: Control de asistencia de personal
A2: Registra la hora de entrada y salida de cada empleado. Horas, extras y puntualidad se calculan solas.
A4: Cómo usarla en 4 pasos
A5: Paso 1 | B5: En Configuración, escribe la jornada diaria, la hora límite de entrada y la lista de empleados.
A6: Paso 2 | B6: En la hoja Asistencia, agrega una fila por cada día trabajado con entrada y salida.
A7: Paso 3 | B7: Mira las horas, las extras y la puntualidad de cada registro.
A8: Paso 4 | B8: En Resumen, revisa las horas por empleado y las llegadas tarde.
A10: Código de colores
A11: Texto azul | B11: Celda de entrada: escribe aquí (texto azul sobre fondo amarillo suave).
A12: Texto negro | B12: Celda con fórmula: se calcula sola, no la borres (texto negro sobre fondo gris).
A14: Ejemplos del formato esperado
A15: Registro | B15: 26/10/2026 · Carlos Pérez · entrada 08:25 · salida 17:30
A17: Consejos
A18: Datos | B18: Esta versión trae datos de ejemplo. Para empezar desde cero, selecciona las celdas azules de la hoja Asistencia y presiona Supr: las fórmulas y las listas se conservan.
A19: Capacidad | B19: 300 filas. Para ampliar, copia la última fila hacia abajo y edita los rangos en Fórmulas > Administrador de nombres (dat_*).
A20: Horas | B20: Escribe las horas en formato 08:30 (24 horas). Si la salida es después de medianoche, divide el turno en dos filas.
A21: Tolerancia | B21: La hora límite de entrada es editable: una entrada posterior se marca «Tarde».

Sheet Asistencia
A1: Asistencia
A2: Registra la hora de entrada y salida de cada empleado. Horas, extras y puntualidad se calculan solas.
A3: DATOS · escribe aquí | E3: CALCULADO
A4: Fecha | B4: Empleado | C4: Entrada | D4: Salida | E4: Horas trabajadas | F4: Horas extra | G4: Puntualidad
A5: 46321 | B5: Ana Morales | C5: 0.33333333 | D5: 0.70833333 | E5: =IF(A5="","",(D5-C5)*24) | F5: =IF(A5="","",MAX(0,E5-par_jornada)) | G5: =IF(A5="","",IF(C5>par_limite,"Tarde","Puntual"))
A6: 46321 | B6: Carlos Pérez | C6: 0.35069444 | D6: 0.72916667 | E6: =IF(A6="","",(D6-C6)*24) | F6: =IF(A6="","",MAX(0,E6-par_jornada)) | G6: =IF(A6="","",IF(C6>par_limite,"Tarde","Puntual"))
A7: 46321 | B7: Lucía Fernández | C7: 0.32986111 | D7: 0.66666667 | E7: =IF(A7="","",(D7-C7)*24) | F7: =IF(A7="","",MAX(0,E7-par_jornada)) | G7: =IF(A7="","",IF(C7>par_limite,"Tarde","Puntual"))
A8: 46322 | B8: Ana Morales | C8: 0.33680556 | D8: 0.71875 | E8: =IF(A8="","",(D8-C8)*24) | F8: =IF(A8="","",MAX(0,E8-par_jornada)) | G8: =IF(A8="","",IF(C8>par_limite,"Tarde","Puntual"))
A9: 46322 | B9: Carlos Pérez | C9: 0.33333333 | D9: 0.66666667 | E9: =IF(A9="","",(D9-C9)*24) | F9: =IF(A9="","",MAX(0,E9-par_jornada)) | G9: =IF(A9="","",IF(C9>par_limite,"Tarde","Puntual"))
A10: 46322 | B10: Lucía Fernández | C10: 0.36111111 | D10: 0.75 | E10: =IF(A10="","",(D10-C10)*24) | F10: =IF(A10="","",MAX(0,E10-par_jornada)) | G10: =IF(A10="","",IF(C10>par_limite,"Tarde","Puntual"))
A11: 46323 | B11: Ana Morales | C11: 0.32638889 | D11: 0.66666667 | E11: =IF(A11="","",(D11-C11)*24) | F11: =IF(A11="","",MAX(0,E11-par_jornada)) | G11: =IF(A11="","",IF(C11>par_limite,"Tarde","Puntual"))
A12: 46323 | B12: Carlos Pérez | C12: 0.34375 | D12: 0.73958333 | E12: =IF(A12="","",(D12-C12)*24) | F12: =IF(A12="","",MAX(0,E12-par_jornada)) | G12: =IF(A12="","",IF(C12>par_limite,"Tarde","Puntual"))
A13: 46323 | B13: Lucía Fernández | C13: 0.33333333 | D13: 0.6875 | E13: =IF(A13="","",(D13-C13)*24) | F13: =IF(A13="","",MAX(0,E13-par_jornada)) | G13: =IF(A13="","",IF(C13>par_limite,"Tarde","Puntual"))
E14: =IF(A14="","",(D14-C14)*24) | F14: =IF(A14="","",MAX(0,E14-par_jornada)) | G14: =IF(A14="","",IF(C14>par_limite,"Tarde","Puntual"))
E15: =IF(A15="","",(D15-C15)*24) | F15: =IF(A15="","",MAX(0,E15-par_jornada)) | G15: =IF(A15="","",IF(C15>par_limite,"Tarde","Puntual"))
E16: =IF(A16="","",(D16-C16)*24) | F16: =IF(A16="","",MAX(0,E16-par_jornada)) | G16: =IF(A16="","",IF(C16>par_limite,"Tarde","Puntual"))
E17: =IF(A17="","",(D17-C17)*24) | F17: =IF(A17="","",MAX(0,E17-par_jornada)) | G17: =IF(A17="","",IF(C17>par_limite,"Tarde","Puntual"))
E18: =IF(A18="","",(D18-C18)*24) | F18: =IF(A18="","",MAX(0,E18-par_jornada)) | G18: =IF(A18="","",IF(C18>par_limite,"Tarde","Puntual"))
E19: =IF(A19="","",(D19-C19)*24) | F19: =IF(A19="","",MAX(0,E19-par_jornada)) | G19: =IF(A19="","",IF(C19>par_limite,"Tarde","Puntual"))
E20: =IF(A20="","",(D20-C20)*24) | F20: =IF(A20="","",MAX(0,E20-par_jornada)) | G20: =IF(A20="","",IF(C20>par_limite,"Tarde","Puntual"))
E21: =IF(A21="","",(D21-C21)*24) | F21: =IF(A21="","",MAX(0,E21-par_jornada)) | G21: =IF(A21="","",IF(C21>par_limite,"Tarde","Puntual"))
E22: =IF(A22="","",(D22-C22)*24) | F22: =IF(A22="","",MAX(0,E22-par_jornada)) | G22: =IF(A22="","",IF(C22>par_limite,"Tarde","Puntual"))
E23: =IF(A23="","",(D23-C23)*24) | F23: =IF(A23="","",MAX(0,E23-par_jornada)) | G23: =IF(A23="","",IF(C23>par_limite,"Tarde","Puntual"))
E24: =IF(A24="","",(D24-C24)*24) | F24: =IF(A24="","",MAX(0,E24-par_jornada)) | G24: =IF(A24="","",IF(C24>par_limite,"Tarde","Puntual"))
E25: =IF(A25="","",(D25-C25)*24) | F25: =IF(A25="","",MAX(0,E25-par_jornada)) | G25: =IF(A25="","",IF(C25>par_limite,"Tarde","Puntual"))
... E304: =IF(A304="","",(D304-C304)*24) | F304: =IF(A304="","",MAX(0,E304-par_jornada)) | G304: =IF(A304="","",IF(C304>par_limite,"Tarde","Puntual"))

Sheet Resumen
A1: Resumen · Control de asistencia de personal
A2: =IF(nombre_negocio="","Escribe tu nombre o el de tu negocio en la hoja Configuración",nombre_negocio)
A4: Registros | B4: Horas trabajadas | C4: Horas extra | D4: Llegadas tarde | E4: Horas promedio por día
A5: =SUMPRODUCT(--(dat_horas<>"")) | B5: =SUM(dat_horas) | C5: =SUM(dat_extras) | D5: =COUNTIF(dat_puntualidad,"Tarde") | E5: =IFERROR(AVERAGE(dat_horas),0)
A7: Horas trabajadas por empleado
A8: Empleado | B8: Horas | C8: % del total
A9: =IF('Configuración'!$A$9="","",'Configuración'!$A$9) | B9: =IF(A9="","",SUMIF(dat_empleado,A9,dat_horas)) | C9: =IF(A9="","",IF($B$20=0,0,B9/$B$20))
A10: =IF('Configuración'!$A$10="","",'Configuración'!$A$10) | B10: =IF(A10="","",SUMIF(dat_empleado,A10,dat_horas)) | C10: =IF(A10="","",IF($B$20=0,0,B10/$B$20))
A11: =IF('Configuración'!$A$11="","",'Configuración'!$A$11) | B11: =IF(A11="","",SUMIF(dat_empleado,A11,dat_horas)) | C11: =IF(A11="","",IF($B$20=0,0,B11/$B$20))
A12: =IF('Configuración'!$A$12="","",'Configuración'!$A$12) | B12: =IF(A12="","",SUMIF(dat_empleado,A12,dat_horas)) | C12: =IF(A12="","",IF($B$20=0,0,B12/$B$20))
A13: =IF('Configuración'!$A$13="","",'Configuración'!$A$13) | B13: =IF(A13="","",SUMIF(dat_empleado,A13,dat_horas)) | C13: =IF(A13="","",IF($B$20=0,0,B13/$B$20))
A14: =IF('Configuración'!$A$14="","",'Configuración'!$A$14) | B14: =IF(A14="","",SUMIF(dat_empleado,A14,dat_horas)) | C14: =IF(A14="","",IF($B$20=0,0,B14/$B$20))
A15: =IF('Configuración'!$A$15="","",'Configuración'!$A$15) | B15: =IF(A15="","",SUMIF(dat_empleado,A15,dat_horas)) | C15: =IF(A15="","",IF($B$20=0,0,B15/$B$20))
A16: =IF('Configuración'!$A$16="","",'Configuración'!$A$16) | B16: =IF(A16="","",SUMIF(dat_empleado,A16,dat_horas)) | C16: =IF(A16="","",IF($B$20=0,0,B16/$B$20))
A17: =IF('Configuración'!$A$17="","",'Configuración'!$A$17) | B17: =IF(A17="","",SUMIF(dat_empleado,A17,dat_horas)) | C17: =IF(A17="","",IF($B$20=0,0,B17/$B$20))
A18: =IF('Configuración'!$A$18="","",'Configuración'!$A$18) | B18: =IF(A18="","",SUMIF(dat_empleado,A18,dat_horas)) | C18: =IF(A18="","",IF($B$20=0,0,B18/$B$20))
A19: Sin asignar | B19: =SUM(dat_horas)-SUM(B9:B18) | C19: =IF($B$20=0,0,B19/$B$20)
A20: Total | B20: =SUM(dat_horas) | C20: =SUM(C9:C19)
A21: Si «Sin asignar» no es 0, hay filas con la categoría vacía o que no está en la lista de Configuración.

Sheet Configuración
A1: Configuración
A2: Personaliza el nombre y las listas desplegables que usan las otras hojas.
A3: Nombre de la empresa | B3: Taller Los Andes S.A.
A4: Horas de la jornada diaria | B4: 8
A5: Hora límite de entrada | B5: 0.34027778
A8: Empleados
A9: Ana Morales | C9: Cada lista admite hasta 10 valores, uno por fila. Las listas en gris no se modifican: las fórmulas dependen de ellas.
A10: Carlos Pérez
A11: Lucía Fernández
A12: Diego Ramírez
A13: Sofía Castro
